BEGIN:VCALENDAR
VERSION:2.0
PRODID:-//Tukios.com/
BEGIN:VEVENT
UID:b87f9d4b-9d11-4529-8be0-52513cc35865@www.southfieldfuneralhome.com
DTSTAMP:20260421T232753Z
DTSTART:20260428T140000Z
DTEND:20260428T150000Z
SUMMARY:Funeral Mass
DESCRIPTION:
URL:https://www.southfieldfuneralhome.com/obituaries/anwar-hanoosh
LOCATION: 25585 Berg Road  Southfield MI 48033
GEO:42.4762251;-83.2798812
END:VEVENT
END:VCALENDAR