BEGIN:VCALENDAR
VERSION:2.0
PRODID:-//Tukios.com/
BEGIN:VEVENT
UID:a9012793-cb3d-48d5-ab8d-8c8797ee65d8@www.southfieldfuneralhome.com
DTSTAMP:20260421T232514Z
DTSTART:20260428T153000Z
DTEND:20260428T163000Z
SUMMARY:Committal Service
DESCRIPTION:
URL:https://www.southfieldfuneralhome.com/obituaries/anwar-hanoosh
LOCATION:Holy Sepulchre Catholic Cemetery 25800 West 12 Mile Road  
	Southfield MI 48034
GEO:42.5008991;-83.3002227
END:VEVENT
END:VCALENDAR