BEGIN:VCALENDAR
VERSION:2.0
PRODID:-//Tukios.com/
BEGIN:VEVENT
UID:e9f803f2-8e02-4bdf-b2bc-99d3d0efd17f@www.southfieldfuneralhome.com
DTSTAMP:20260421T232644Z
DTSTART:20260427T200000Z
DTEND:20260427T230000Z
SUMMARY:Visitation
DESCRIPTION:
URL:https://www.southfieldfuneralhome.com/obituaries/anwar-hanoosh
LOCATION: 18338 W 12 Mile Rd  Southfield MI 48076
GEO:42.50266;-83.2254683
END:VEVENT
END:VCALENDAR