BEGIN:VCALENDAR
VERSION:2.0
PRODID:-//Tukios.com/
BEGIN:VEVENT
UID:cf0392bf-a96a-4c84-8536-38f6d048de03@www.southfieldfuneralhome.com
DTSTAMP:20260420T060503Z
DTSTART:20260421T190000Z
DTEND:20260421T230000Z
SUMMARY:Acceptance of Condolences
DESCRIPTION:
URL:https://www.southfieldfuneralhome.com/obituaries/edward-roye
LOCATION:Bay Pointe Golf Club 4001 Haggerty Rd  West Bloomfield Township 
	MI 48323
GEO:42.5801413;-83.444346
END:VEVENT
END:VCALENDAR