BEGIN:VCALENDAR
VERSION:2.0
PRODID:-//Tukios.com/
BEGIN:VEVENT
UID:c0ce4f39-8400-42e5-b68b-581dead224f0@www.southfieldfuneralhome.com
DTSTAMP:20260420T060030Z
DTSTART:20260421T153000Z
DTEND:20260421T163000Z
SUMMARY:Committal Service
DESCRIPTION:
URL:https://www.southfieldfuneralhome.com/obituaries/edward-roye
LOCATION:Holy Sepulchre Catholic Cemetery 25800 West 10 Mile Road  
	Southfield MI 48033
GEO:42.4715644;-83.2986504
END:VEVENT
END:VCALENDAR