BEGIN:VCALENDAR
VERSION:2.0
PRODID:-//Tukios.com/
BEGIN:VEVENT
UID:0cd2f0fa-7897-4a5c-8ac6-372ccf0d84ea@www.southfieldfuneralhome.com
DTSTAMP:20260420T060426Z
DTSTART:20260421T140000Z
DTEND:20260421T150000Z
SUMMARY:Funeral Mass
DESCRIPTION:
URL:https://www.southfieldfuneralhome.com/obituaries/edward-roye
LOCATION:St. Thomas Chaldean Catholic Church 6900 W Maple Rd  West 
	Bloomfield MI 48322
GEO:42.5420694;-83.4151915
END:VEVENT
END:VCALENDAR