BEGIN:VCALENDAR
VERSION:2.0
PRODID:-//Tukios.com/
BEGIN:VEVENT
UID:fac7895f-894c-47f6-8f33-57c38fe3c202@www.southfieldfuneralhome.com
DTSTAMP:20260423T000912Z
DTSTART:20260424T140000Z
DTEND:20260424T150000Z
SUMMARY:Funeral Mass
DESCRIPTION:
URL:https://www.southfieldfuneralhome.com/obituaries/florence-zora
LOCATION: 25585 Berg Road  Southfield MI 48033
GEO:42.4762251;-83.2798812
END:VEVENT
END:VCALENDAR