BEGIN:VCALENDAR
VERSION:2.0
PRODID:-//Tukios.com/
BEGIN:VEVENT
UID:488a14ab-7e43-43f5-aaf5-57576e7e40c4@www.southfieldfuneralhome.com
DTSTAMP:20260423T001024Z
DTSTART:20260424T153000Z
DTEND:20260424T163000Z
SUMMARY:Committal Service
DESCRIPTION:
URL:https://www.southfieldfuneralhome.com/obituaries/florence-zora
LOCATION:Holy Sepulchre Catholic Cemetery 25800 West 10 Mile Road  
	Southfield MI 48033
GEO:42.4715644;-83.2986504
END:VEVENT
END:VCALENDAR