BEGIN:VCALENDAR
VERSION:2.0
PRODID:-//Tukios.com/
BEGIN:VEVENT
UID:837f95cd-a64e-4adc-bbea-b51cf589db80@www.southfieldfuneralhome.com
DTSTAMP:20260423T001326Z
DTSTART:20260424T190000Z
DTEND:20260424T230000Z
SUMMARY:Acceptance of Condolences
DESCRIPTION:
URL:https://www.southfieldfuneralhome.com/obituaries/florence-zora
LOCATION: 4100 East 14 Mile Road  Warren MI 48092
GEO:42.5342742;-83.0667451
END:VEVENT
END:VCALENDAR