BEGIN:VCALENDAR
VERSION:2.0
PRODID:-//Tukios.com/
BEGIN:VEVENT
UID:4640bfb2-1cc1-4410-84df-ef1daa4275be@www.southfieldfuneralhome.com
DTSTAMP:20260421T010200Z
DTSTART:20260422T140000Z
DTEND:20260422T150000Z
SUMMARY:Funeral Mass
DESCRIPTION:
URL:https://www.southfieldfuneralhome.com/obituaries/ibrahim-albakal
LOCATION: 25585 Berg Road  Southfield MI 48033
GEO:42.4762251;-83.2798812
END:VEVENT
END:VCALENDAR