BEGIN:VCALENDAR
VERSION:2.0
PRODID:-//Tukios.com/
BEGIN:VEVENT
UID:2cad5a6d-a402-4d68-834d-525e68880abd@www.southfieldfuneralhome.com
DTSTAMP:20260421T010144Z
DTSTART:20260422T153000Z
DTEND:20260422T163000Z
SUMMARY:Committal Service
DESCRIPTION:
URL:https://www.southfieldfuneralhome.com/obituaries/ibrahim-albakal
LOCATION:Holy Sepulchre Catholic Cemetery 25800 West 10 Mile Road  
	Southfield MI 48033
GEO:42.4715644;-83.2986504
END:VEVENT
END:VCALENDAR