BEGIN:VCALENDAR
VERSION:2.0
PRODID:-//Tukios.com/
BEGIN:VEVENT
UID:023fedb0-f79d-49b1-a17b-de3ae76d62bf@www.southfieldfuneralhome.com
DTSTAMP:20260421T010650Z
DTSTART:20260422T190000Z
DTEND:20260422T230000Z
SUMMARY:Acceptance of Condolences
DESCRIPTION:
URL:https://www.southfieldfuneralhome.com/obituaries/ibrahim-albakal
LOCATION: 25228 West 12 Mile Road  Southfield MI 48034
GEO:42.5015564;-83.293484
END:VEVENT
END:VCALENDAR