BEGIN:VCALENDAR
VERSION:2.0
PRODID:-//Tukios.com/
BEGIN:VEVENT
UID:1d6d84f8-d2d3-41ed-aa5a-e60c2ea24d5a@www.southfieldfuneralhome.com
DTSTAMP:20260424T224226Z
DTSTART:20260427T140000Z
DTEND:20260427T150000Z
SUMMARY:Funeral Mass
DESCRIPTION:
URL:https://www.southfieldfuneralhome.com/obituaries/morey-gergis
LOCATION: 25585 Berg Road  Southfield MI 48033
GEO:42.4762251;-83.2798812
END:VEVENT
END:VCALENDAR