BEGIN:VCALENDAR
VERSION:2.0
PRODID:-//Tukios.com/
BEGIN:VEVENT
UID:c972542a-9cd2-4184-870f-4b83f08c2e06@www.southfieldfuneralhome.com
DTSTAMP:20260424T223952Z
DTSTART:20260427T153000Z
DTEND:20260427T163000Z
SUMMARY:Committal (Graveside) Service
DESCRIPTION:
URL:https://www.southfieldfuneralhome.com/obituaries/morey-gergis
LOCATION:Holy Sepulchre Catholic Cemetery 25800 West 10 Mile Road  
	Southfield MI 48034
GEO:42.4715644;-83.2986504
END:VEVENT
END:VCALENDAR