BEGIN:VCALENDAR
VERSION:2.0
PRODID:-//Tukios.com/
BEGIN:VEVENT
UID:c988901b-3138-4b83-be54-992b0385f8b2@www.southfieldfuneralhome.com
DTSTAMP:20260424T223937Z
DTSTART:20260427T190000Z
DTEND:20260427T230000Z
SUMMARY:Acceptance of Condolences
DESCRIPTION:
URL:https://www.southfieldfuneralhome.com/obituaries/morey-gergis
LOCATION: 25228 West 12 Mile Road  Southfield MI 48034
GEO:42.5015564;-83.293484
END:VEVENT
END:VCALENDAR