BEGIN:VCALENDAR
VERSION:2.0
PRODID:-//Tukios.com/
BEGIN:VEVENT
UID:99a34f56-f4ac-4b6a-b5d5-9d3ddcd4fdc4@www.southfieldfuneralhome.com
DTSTAMP:20260421T085420Z
DTSTART:20260417T153000Z
DTEND:20260417T163000Z
SUMMARY:Committal Service
DESCRIPTION:
URL:https://www.southfieldfuneralhome.com/obituaries/thaer-sorro
LOCATION: 621 W Long Lake Rd  Troy MI 48033
GEO:42.5856707;-83.1635601
END:VEVENT
END:VCALENDAR